BEGIN:VCALENDAR
VERSION:2.0
PRODID:-//Virneburg - ECPv6.15.20//NONSGML v1.0//EN
CALSCALE:GREGORIAN
METHOD:PUBLISH
X-WR-CALNAME:Virneburg
X-ORIGINAL-URL:https://virneburg-eifel.de
X-WR-CALDESC:Veranstaltungen für Virneburg
REFRESH-INTERVAL;VALUE=DURATION:PT1H
X-Robots-Tag:noindex
X-PUBLISHED-TTL:PT1H
BEGIN:VTIMEZONE
TZID:Europe/Berlin
BEGIN:DAYLIGHT
TZOFFSETFROM:+0100
TZOFFSETTO:+0200
TZNAME:CEST
DTSTART:20210328T010000
END:DAYLIGHT
BEGIN:STANDARD
TZOFFSETFROM:+0200
TZOFFSETTO:+0100
TZNAME:CET
DTSTART:20211031T010000
END:STANDARD
BEGIN:DAYLIGHT
TZOFFSETFROM:+0100
TZOFFSETTO:+0200
TZNAME:CEST
DTSTART:20220327T010000
END:DAYLIGHT
BEGIN:STANDARD
TZOFFSETFROM:+0200
TZOFFSETTO:+0100
TZNAME:CET
DTSTART:20221030T010000
END:STANDARD
BEGIN:DAYLIGHT
TZOFFSETFROM:+0100
TZOFFSETTO:+0200
TZNAME:CEST
DTSTART:20230326T010000
END:DAYLIGHT
BEGIN:STANDARD
TZOFFSETFROM:+0200
TZOFFSETTO:+0100
TZNAME:CET
DTSTART:20231029T010000
END:STANDARD
END:VTIMEZONE
BEGIN:VEVENT
DTSTART;TZID=Europe/Berlin:20220610T180000
DTEND;TZID=Europe/Berlin:20220613T233000
DTSTAMP:20260420T212617
CREATED:20220503T110014Z
LAST-MODIFIED:20220907T110337Z
UID:9213-1654884000-1655163000@virneburg-eifel.de
SUMMARY:Kirmes
DESCRIPTION:Nach nun zwei Jahren\, freuen wir Euch mitteilen zu können\, dass unsere Kirmes dieses Jahr wieder wie gewohnt Stattfindet!
URL:https://virneburg-eifel.de/event/kirmes/
LOCATION:Gemeindehalle\, 56729\, Virneburg\, Rheinland-Pfalz\, 56729
ATTACH;FMTTYPE=image/jpeg:/wp-content/uploads/2022/05/Flyer-e1651575595236.jpg
END:VEVENT
BEGIN:VEVENT
DTSTART;TZID=Europe/Berlin:20220623T183000
DTEND;TZID=Europe/Berlin:20220623T193000
DTSTAMP:20260420T212617
CREATED:20220620T060551Z
LAST-MODIFIED:20220907T110317Z
UID:9315-1656009000-1656012600@virneburg-eifel.de
SUMMARY:Messe am 23.06. Kapelle Vrineburg
DESCRIPTION:Hochfest Geburt des hl. Johannes des Täufers
URL:https://virneburg-eifel.de/event/messe-am-23-06-kapelle-vrineburg/
LOCATION:Kapelle Virneburg\, Virneburg\, 56729\, Deutschland
ATTACH;FMTTYPE=image/png:/wp-content/uploads/2021/04/Logo_Virneburg_Platzhalter.png
END:VEVENT
END:VCALENDAR