BEGIN:VCALENDAR
VERSION:2.0
PRODID:-//Virneburg - ECPv6.15.20//NONSGML v1.0//EN
CALSCALE:GREGORIAN
METHOD:PUBLISH
X-WR-CALNAME:Virneburg
X-ORIGINAL-URL:https://virneburg-eifel.de
X-WR-CALDESC:Veranstaltungen für Virneburg
REFRESH-INTERVAL;VALUE=DURATION:PT1H
X-Robots-Tag:noindex
X-PUBLISHED-TTL:PT1H
BEGIN:VTIMEZONE
TZID:Europe/Helsinki
BEGIN:DAYLIGHT
TZOFFSETFROM:+0200
TZOFFSETTO:+0300
TZNAME:EEST
DTSTART:20240331T010000
END:DAYLIGHT
BEGIN:STANDARD
TZOFFSETFROM:+0300
TZOFFSETTO:+0200
TZNAME:EET
DTSTART:20241027T010000
END:STANDARD
BEGIN:DAYLIGHT
TZOFFSETFROM:+0200
TZOFFSETTO:+0300
TZNAME:EEST
DTSTART:20250330T010000
END:DAYLIGHT
BEGIN:STANDARD
TZOFFSETFROM:+0300
TZOFFSETTO:+0200
TZNAME:EET
DTSTART:20251026T010000
END:STANDARD
BEGIN:DAYLIGHT
TZOFFSETFROM:+0200
TZOFFSETTO:+0300
TZNAME:EEST
DTSTART:20260329T010000
END:DAYLIGHT
BEGIN:STANDARD
TZOFFSETFROM:+0300
TZOFFSETTO:+0200
TZNAME:EET
DTSTART:20261025T010000
END:STANDARD
END:VTIMEZONE
BEGIN:VEVENT
DTSTART;TZID=Europe/Helsinki:20250319T183000
DTEND;TZID=Europe/Helsinki:20250319T193000
DTSTAMP:20260425T193339
CREATED:20250224T093205Z
LAST-MODIFIED:20250224T093205Z
UID:11221-1742409000-1742412600@virneburg-eifel.de
SUMMARY:Josefstag
DESCRIPTION:Liebe Virneburgerinnen\, liebe Virneburger\, \nanlässlich des Patronatsfest zu Ehren des hl. Josef\, Schutzpatron unserer Kapelle\, findet am Mittwoch\, dem 19.03.2025\, um 18:30 Uhr ein Gottesdienst in Virneburg statt. \nTorsten Zilles\, Ortsbürgermeister
URL:https://virneburg-eifel.de/event/josefstag-3/
LOCATION:Kapelle Virneburg\, Virneburg\, 56729\, Deutschland
CATEGORIES:Heilige Messe
ATTACH;FMTTYPE=image/png:/wp-content/uploads/2021/04/Logo_Virneburg_Platzhalter.png
END:VEVENT
END:VCALENDAR